BEGIN:VCALENDAR
VERSION:2.0
PRODID:-//Der Kinderschutzbund Bonn e.V. - ECPv6.15.20//NONSGML v1.0//EN
CALSCALE:GREGORIAN
METHOD:PUBLISH
X-ORIGINAL-URL:https://www.kinderschutzbund-bonn.de
X-WR-CALDESC:Veranstaltungen für Der Kinderschutzbund Bonn e.V.
REFRESH-INTERVAL;VALUE=DURATION:PT1H
X-Robots-Tag:noindex
X-PUBLISHED-TTL:PT1H
BEGIN:VTIMEZONE
TZID:Europe/Berlin
BEGIN:DAYLIGHT
TZOFFSETFROM:+0100
TZOFFSETTO:+0200
TZNAME:CEST
DTSTART:20250330T010000
END:DAYLIGHT
BEGIN:STANDARD
TZOFFSETFROM:+0200
TZOFFSETTO:+0100
TZNAME:CET
DTSTART:20251026T010000
END:STANDARD
BEGIN:DAYLIGHT
TZOFFSETFROM:+0100
TZOFFSETTO:+0200
TZNAME:CEST
DTSTART:20260329T010000
END:DAYLIGHT
BEGIN:STANDARD
TZOFFSETFROM:+0200
TZOFFSETTO:+0100
TZNAME:CET
DTSTART:20261025T010000
END:STANDARD
BEGIN:DAYLIGHT
TZOFFSETFROM:+0100
TZOFFSETTO:+0200
TZNAME:CEST
DTSTART:20270328T010000
END:DAYLIGHT
BEGIN:STANDARD
TZOFFSETFROM:+0200
TZOFFSETTO:+0100
TZNAME:CET
DTSTART:20271031T010000
END:STANDARD
END:VTIMEZONE
BEGIN:VEVENT
DTSTART;TZID=Europe/Berlin:20260903T180000
DTEND;TZID=Europe/Berlin:20261105T201500
DTSTAMP:20260423T181705
CREATED:20260416T085938Z
LAST-MODIFIED:20260416T090245Z
UID:5428-1788458400-1793909700@www.kinderschutzbund-bonn.de
SUMMARY:SESK K2-2026
DESCRIPTION:Elternkurs Starke Kinder – Starke Eltern\nDer Kurs »Starke Eltern – Starke Kinder« des Kinderschutzbundes ist ein wertvolles Angebot für Eltern\, die ihre Erziehungskompetenz stärken und gezielte Unterstützung in herausfordernden Phasen erhalten möchten. Der Kurs vermittelt praxisnah das notwendige Wissen\, das Eltern hilft\, ihre Kinder liebevoll\, aber auch mit klaren Grenzen zu begleiten. \nWeitere Informationen erhalten Sie hier: SESK \n03.09. – 05.11.2026\n\n\ndonnerstags\, 18:00 – 20:15 Uhr\nBonn Bad Godeserg\, DKSB Bonn\, Du und Ich – zusammen\, Plittersdorfer Str. 13\, 53173 Bonn\nReferentin: Lisa Dittler\nFür Eltern mit Kindern bis ca. 10 Jahren\nSprache: deutsch\nPreis: 70\,- € | Elternpaar: 110\,- € | Bonn Ausweis: 40\,- €\n8 Termine: 03.09.2026\, 10.09.2026\, 24.09.2026\, 01.10.2026\, 08.10.2026\, 15.10.2026\, 29.10.2026\, 05.11.2026\nAnmeldefrist: 27.08.2026
URL:https://www.kinderschutzbund-bonn.de/event/sesk-k2-2026/
LOCATION:Der Kinderschutzbund Bonn\, Du und Ich-zusammen\, Plittersdorfer Strasse 13\, Bonn\, 53173
END:VEVENT
BEGIN:VEVENT
DTSTART;TZID=Europe/Berlin:20260914T180000
DTEND;TZID=Europe/Berlin:20261116T201500
DTSTAMP:20260423T181705
CREATED:20260416T090750Z
LAST-MODIFIED:20260416T090750Z
UID:5434-1789408800-1794860100@www.kinderschutzbund-bonn.de
SUMMARY:SESK K3-2026
DESCRIPTION:Elternkurs Starke Kinder – Starke Eltern\nDer Kurs »Starke Eltern – Starke Kinder« des Kinderschutzbundes ist ein wertvolles Angebot für Eltern\, die ihre Erziehungskompetenz stärken und gezielte Unterstützung in herausfordernden Phasen erhalten möchten. Der Kurs vermittelt praxisnah das notwendige Wissen\, das Eltern hilft\, ihre Kinder liebevoll\, aber auch mit klaren Grenzen zu begleiten. \nWeitere Informationen erhalten Sie hier: SESK \n  \n14.09. – 16.11.2026\n\n\nmontags\, 18:00 – 20:15 Uhr\nKinderschutzbund Bonn\, Eifelstr. 7\, 53119 Bonn\nReferentin: Miriam Langer\nFür Elterm mit Kindern bis ca. 10 Jahren\nSprache: deutsch\nPreis: 70\,- € | Elternpaar: 110\,- € | Bonn Ausweis: 40\,- €\n8 Termine: 14.09.2026\, 21.09.2026\, 28.09.2026\, 05.10.2026\, 12.10.2026\, 02.11.2026\, 09.11.2026\, 16.11.2026\nAnmeldefrist: 07.09.2026
URL:https://www.kinderschutzbund-bonn.de/event/sesk-k3-2026/
LOCATION:Der Kinderschutzbund Bonn e.V.\, Eifelstr. 7\, Bonn\, NRW\, 53119\, Germany
END:VEVENT
BEGIN:VEVENT
DTSTART;TZID=Europe/Berlin:20260919T100000
DTEND;TZID=Europe/Berlin:20261205T121500
DTSTAMP:20260423T181705
CREATED:20260416T092340Z
LAST-MODIFIED:20260416T092631Z
UID:5441-1789812000-1796472900@www.kinderschutzbund-bonn.de
SUMMARY:SESK R2-2026
DESCRIPTION:Elternkurs Starke Kinder – Starke Eltern\nDer Kurs »Starke Eltern – Starke Kinder« des Kinderschutzbundes ist ein wertvolles Angebot für Eltern\, die ihre Erziehungskompetenz stärken und gezielte Unterstützung in herausfordernden Phasen erhalten möchten. Der Kurs vermittelt praxisnah das notwendige Wissen\, das Eltern hilft\, ihre Kinder liebevoll\, aber auch mit klaren Grenzen zu begleiten. \nWeitere Informationen erhalten Sie hier: SESK \n  \n19.09. – 05.12.2026\n\n\nsamstags. 10:00 – 12:15 Uhr\nDKSB Bonn\, Eifelstr. 7\, 53119 Bonn\nReferentin: Olga Terentyeva\nFür russischsprachige Eltern\nSprache: russisch\nPreis: 35\,- € | Elternpaar: 55\,- € | Bonn Ausweis: 25\,- €\n8 Termine: 19.09.2026\, 26.09.2026\, 10.10.2026\, 07.11.2026\, 14.11.2026\, 21.11.2026\, 28.11.2026\, 05.12.2026\nAnmeldefrist: 11.09.2026\n\n  \nКурс для родителей «Сильные дети – сильные родители»\nКурс «Сильные родители – сильные дети» Немецкого союза защиты детей — это ценное предложение для родителей\, которые хотят укрепить свои воспитательные навыки и получить целенаправленную поддержку в сложные периоды. Курс в практичной форме передаёт необходимые знания\, которые помогают родителям воспитывать детей с любовью\, но при этом устанавливать чёткие границы. \n19.09 – 05.12.2026\n\nпо субботам\, 10:00 – 12:15DKSB Bonn\, Eifelstr. 7\, 53119 BonnВедущая: Ольга ТерентьеваДля русскоязычных родителейЯзык: русскийСтоимость: 35 € | семейная пара: 55 € | при наличии Bonn-Ausweis: 25 €8 занятий: 19.09.2026\, 26.09.2026\, 10.10.2026\, 07.11.2026\, 14.11.2026\, 21.11.2026\, 28.11.2026\, 05.12.2026Срок регистрации: 11.09.2026
URL:https://www.kinderschutzbund-bonn.de/event/sesk-r2-2026/
LOCATION:Der Kinderschutzbund Bonn e.V.\, Eifelstr. 7\, Bonn\, NRW\, 53119\, Germany
END:VEVENT
END:VCALENDAR