BEGIN:VCALENDAR
VERSION:2.0
PRODID:-//Der Kinderschutzbund Bonn e.V. - ECPv6.15.20//NONSGML v1.0//EN
CALSCALE:GREGORIAN
METHOD:PUBLISH
X-WR-CALNAME:Der Kinderschutzbund Bonn e.V.
X-ORIGINAL-URL:https://www.kinderschutzbund-bonn.de
X-WR-CALDESC:Veranstaltungen für Der Kinderschutzbund Bonn e.V.
REFRESH-INTERVAL;VALUE=DURATION:PT1H
X-Robots-Tag:noindex
X-PUBLISHED-TTL:PT1H
BEGIN:VTIMEZONE
TZID:Europe/Berlin
BEGIN:DAYLIGHT
TZOFFSETFROM:+0100
TZOFFSETTO:+0200
TZNAME:CEST
DTSTART:20250330T010000
END:DAYLIGHT
BEGIN:STANDARD
TZOFFSETFROM:+0200
TZOFFSETTO:+0100
TZNAME:CET
DTSTART:20251026T010000
END:STANDARD
BEGIN:DAYLIGHT
TZOFFSETFROM:+0100
TZOFFSETTO:+0200
TZNAME:CEST
DTSTART:20260329T010000
END:DAYLIGHT
BEGIN:STANDARD
TZOFFSETFROM:+0200
TZOFFSETTO:+0100
TZNAME:CET
DTSTART:20261025T010000
END:STANDARD
BEGIN:DAYLIGHT
TZOFFSETFROM:+0100
TZOFFSETTO:+0200
TZNAME:CEST
DTSTART:20270328T010000
END:DAYLIGHT
BEGIN:STANDARD
TZOFFSETFROM:+0200
TZOFFSETTO:+0100
TZNAME:CET
DTSTART:20271031T010000
END:STANDARD
END:VTIMEZONE
BEGIN:VEVENT
DTSTART;TZID=Europe/Berlin:20260507T180000
DTEND;TZID=Europe/Berlin:20260507T203000
DTSTAMP:20260419T145153
CREATED:20260407T110444Z
LAST-MODIFIED:20260407T110444Z
UID:5375-1778176800-1778185800@www.kinderschutzbund-bonn.de
SUMMARY:Basisschulung C - Kindeswohl & Kinderschutz (EA)
DESCRIPTION:
URL:https://www.kinderschutzbund-bonn.de/event/basisschulung-c-kindeswohl-kinderschutz-ea/
LOCATION:Der Kinderschutzbund Bonn e.V.\, Eifelstr. 7\, Bonn\, NRW\, 53119\, Germany
END:VEVENT
END:VCALENDAR