BEGIN:VCALENDAR
VERSION:2.0
PRODID:-//Der Kinderschutzbund Bonn e.V. - ECPv6.15.20//NONSGML v1.0//EN
CALSCALE:GREGORIAN
METHOD:PUBLISH
X-WR-CALNAME:Der Kinderschutzbund Bonn e.V.
X-ORIGINAL-URL:https://www.kinderschutzbund-bonn.de
X-WR-CALDESC:Veranstaltungen für Der Kinderschutzbund Bonn e.V.
REFRESH-INTERVAL;VALUE=DURATION:PT1H
X-Robots-Tag:noindex
X-PUBLISHED-TTL:PT1H
BEGIN:VTIMEZONE
TZID:Europe/Berlin
BEGIN:DAYLIGHT
TZOFFSETFROM:+0100
TZOFFSETTO:+0200
TZNAME:CEST
DTSTART:20250330T010000
END:DAYLIGHT
BEGIN:STANDARD
TZOFFSETFROM:+0200
TZOFFSETTO:+0100
TZNAME:CET
DTSTART:20251026T010000
END:STANDARD
BEGIN:DAYLIGHT
TZOFFSETFROM:+0100
TZOFFSETTO:+0200
TZNAME:CEST
DTSTART:20260329T010000
END:DAYLIGHT
BEGIN:STANDARD
TZOFFSETFROM:+0200
TZOFFSETTO:+0100
TZNAME:CET
DTSTART:20261025T010000
END:STANDARD
BEGIN:DAYLIGHT
TZOFFSETFROM:+0100
TZOFFSETTO:+0200
TZNAME:CEST
DTSTART:20270328T010000
END:DAYLIGHT
BEGIN:STANDARD
TZOFFSETFROM:+0200
TZOFFSETTO:+0100
TZNAME:CET
DTSTART:20271031T010000
END:STANDARD
END:VTIMEZONE
BEGIN:VEVENT
DTSTART;TZID=Europe/Berlin:20260626T160000
DTEND;TZID=Europe/Berlin:20260626T210000
DTSTAMP:20260423T124837
CREATED:20260408T082252Z
LAST-MODIFIED:20260408T094902Z
UID:5378-1782489600-1782507600@www.kinderschutzbund-bonn.de
SUMMARY:Dankeschön - Ehrenamtliche des DKSB
DESCRIPTION:Dieses Jahr wird der Kinderschutzbund Bonn 60 Jahre alt! Deswegen möchten wir uns mit einer besonderen Aktion bei euch für euer Engagement bedanken: \nAm Freitag\, den 26. Juni 2026 laden wir euch zu einer Street Art-Führung in der Bonner Altstadt/Nordstadt ein\, um diesen Stadtteil nochmal mit ganz anderen Augen wahrzunehmen. Es werden Euch Werke von lokalen und internationalen Künstler:innen gezeigt und ihr könnt in die Szene eintauchen. Dabei erfahrt ihr viel über die verschiedenen Techniken\, Styles und informellen Regeln der Szene. Die Führung startet um 16:00 Uhr an der Fabrik 45\, Hochstadenring 45\, und wir voraussichtlich etwa 2 Stunden dauern. \nIm Anschluss an die Führung laden wir euch um 18:30 Uhr zum gemeinsamen Essen ins Restaurant Tuscolo am Frankenbad\, Kaiser-Karl-Ring 63\, ein\, wo wir den Abend in gemütlicher Atmosphäre gemeinsam ausklingen lassen können. \nWir freuen uns auf euch!
URL:https://www.kinderschutzbund-bonn.de/event/dankeschoen-ehrenamtliche-des-dksb/
LOCATION:NRW
END:VEVENT
END:VCALENDAR